Workbook

Sheet население
B2: РЕЗУЛЬТАТЫ ОПРОСА ПОТРЕБИТЕЛЕЙ
B3: ____________________ | C3: (район)
B4: Объем выборки | D4: человек
B5: Фактически опрошено | D5: человек
B6: СОЦИАЛЬНО-ДЕМОГРАФИЧЕСКИЕ ХАРАКТЕРИСТИКИ
B8: Критерии | C8: Варианты ответов | D8: Кол-во респондентов, чел. | E8: Доля от числа опрошенных, %
B9: 1. Половой состав | C9: мужчины | E9: =D9/$C$5 -> #DIV/0! | F9: =IF((D9+D10)=C$5, " ","ошибка")
C10: женщины | E10: =D10/$C$5 -> #DIV/0!
B11: 2. Возрастной состав | C11: До 20 лет | E11: =D11/$C$5 -> #DIV/0! | F11: =IF((D11+D12+D13+D14)=C$5, " ","ошибка")
C12: От 21 года до 35 лет | E12: =D12/$C$5 -> #DIV/0!
C13: От 36 до 50 лет | E13: =D13/$C$5 -> #DIV/0!
C14: Старше 51 года | E14: =D14/$C$5 -> #DIV/0!
B15: 3. Социальный статус | C15: Работаю | E15: =D15/$C$5 -> #DIV/0! | F15: =IF((D15+D16+D17+D18+D19+D20)=C$5, " ","ошибка")
C16: Без работы | E16: =D16/$C$5 -> #DIV/0!
C17: Учусь / студент | E17: =D17/$C$5 -> #DIV/0!
C18: Домохозяйка (домохозяин) | E18: =D18/$C$5 -> #DIV/0!
C19: Пенсионер | E19: =D19/$C$5 -> #DIV/0!
C20: Иное | E20: =D20/$C$5 -> #DIV/0!
B21: 4. Наличие детей | C21: Нет детей | E21: =D21/$C$5 -> #DIV/0! | F21: =IF((D21+D22+D23+D24)=C$5, " ","ошибка")
C22: 1 ребенок | E22: =D22/$C$5 -> #DIV/0!
C23: 2 ребенка | E23: =D23/$C$5 -> #DIV/0!
C24: 3 и более детей | E24: =D24/$C$5 -> #DIV/0!
B25: 5. Образование | C25: Общее среднее | E25: =D25/$C$5 -> #DIV/0! | F25: =IF((D25+D26+D27+D28+D29+D30)=C$5, " ","ошибка")
C26: Среднее специальное | E26: =D26/$C$5 -> #DIV/0!
C27: Неполное высшее | E27: =D27/$C$5 -> #DIV/0!
C28: Высшее | E28: =D28/$C$5 -> #DIV/0!
C29: Научная степень | E29: =D29/$C$5 -> #DIV/0!
C30: Иное | E30: =D30/$C$5 -> #DIV/0!
B31: 6. Примерный среднемесячный доход на 1 члена семьи | C31: До 10 тыс. рублей | E31: =D31/$C$5 -> #DIV/0! | F31: =IF((D31+D32+D33+D34+D35+D36)=C$5, " ","ошибка")
C32: От 10 до 20 тыс. рублей | E32: =D32/$C$5 -> #DIV/0!
C33: От 20 до 30 тыс. рублей | E33: =D33/$C$5 -> #DIV/0!
C34: От 30 до 45 тыс. рублей | E34: =D34/$C$5 -> #DIV/0!
C35: От 45 до 60 тыс. рублей | E35: =D35/$C$5 -> #DIV/0!
C36: Более 60 тыс. рублей | E36: =D36/$C$5 -> #DIV/0!

Sheet удовлетворенность
B2: РЕЗУЛЬТАТЫ ОПРОСА ПОТРЕБИТЕЛЕЙ
B3: =население!B3 -> ____________________ | C3: (район)
B4: Объем выборки | C4: =население!C4 -> 0 | D4: человек
B5: Фактически опрошено | C5: =население!C5 -> 0 | D5: человек
B7: 1. УДОВЛЕТВОРЕННОСТЬ КАЧЕСТВОМ И ЦЕНАМИ ТОВАРОВ, РАБОТ И УСЛУГ
B8: 1.1. Удовлетворенность уровнем цен | C8: Варианты ответов
C9: удовлетворен | E9: Скорее удовлетворен | G9: Скорее не удовлетворен | I9: Не удовлетворен | K9: Затрудняюсь ответить
C10: Количество | D10: Доля, % | E10: Количество | F10: Доля, % | G10: Количество | H10: Доля, % | I10: Количество | J10: Доля, % | K10: Количество | L10: Доля, %
B11: Рынок услуг дошкольного образования | D11: =C11/$C$5 -> #DIV/0! | F11: =E11/$C$5 -> #DIV/0! | H11: =G11/$C$5 -> #DIV/0! | J11: =I11/$C$5 -> #DIV/0! | L11: =K11/$C$5 -> #DIV/0! | M11: =IF((C11+E11+G11+I11+K11)=C$5, " ","ошибка")
B12: Рынок услуг дополнительного образования детей | D12: =C12/$C$5 -> #DIV/0! | F12: =E12/$C$5 -> #DIV/0! | H12: =G12/$C$5 -> #DIV/0! | J12: =I12/$C$5 -> #DIV/0! | L12: =K12/$C$5 -> #DIV/0! | M12: =IF((C12+E12+G12+I12+K12)=C$5, " ","ошибка")
B13: Рынок услуг психолого-педагогического сопровождения детей с ОВЗ | D13: =C13/$C$5 -> #DIV/0! | F13: =E13/$C$5 -> #DIV/0! | H13: =G13/$C$5 -> #DIV/0! | J13: =I13/$C$5 -> #DIV/0! | L13: =K13/$C$5 -> #DIV/0! | M13: =IF((C13+E13+G13+I13+K13)=C$5, " ","ошибка")
B14: Рынок услуг детского отдыха и оздоровления | D14: =C14/$C$5 -> #DIV/0! | F14: =E14/$C$5 -> #DIV/0! | H14: =G14/$C$5 -> #DIV/0! | J14: =I14/$C$5 -> #DIV/0! | L14: =K14/$C$5 -> #DIV/0! | M14: =IF((C14+E14+G14+I14+K14)=C$5, " ","ошибка")
B15: Рынок услуг социального обслуживания населения | D15: =C15/$C$5 -> #DIV/0! | F15: =E15/$C$5 -> #DIV/0! | H15: =G15/$C$5 -> #DIV/0! | J15: =I15/$C$5 -> #DIV/0! | L15: =K15/$C$5 -> #DIV/0! | M15: =IF((C15+E15+G15+I15+K15)=C$5, " ","ошибка")
B16: Рынок медицинских услуг | D16: =C16/$C$5 -> #DIV/0! | F16: =E16/$C$5 -> #DIV/0! | H16: =G16/$C$5 -> #DIV/0! | J16: =I16/$C$5 -> #DIV/0! | L16: =K16/$C$5 -> #DIV/0! | M16: =IF((C16+E16+G16+I16+K16)=C$5, " ","ошибка")
B17: Рынок услуг в сфере культуры | D17: =C17/$C$5 -> #DIV/0! | F17: =E17/$C$5 -> #DIV/0! | H17: =G17/$C$5 -> #DIV/0! | J17: =I17/$C$5 -> #DIV/0! | L17: =K17/$C$5 -> #DIV/0! | M17: =IF((C17+E17+G17+I17+K17)=C$5, " ","ошибка")
B18: Рынок услуг ЖКХ | D18: =C18/$C$5 -> #DIV/0! | F18: =E18/$C$5 -> #DIV/0! | H18: =G18/$C$5 -> #DIV/0! | J18: =I18/$C$5 -> #DIV/0! | L18: =K18/$C$5 -> #DIV/0! | M18: =IF((C18+E18+G18+I18+K18)=C$5, " ","ошибка")
B19: Рынок розничной торговли | D19: =C19/$C$5 -> #DIV/0! | F19: =E19/$C$5 -> #DIV/0! | H19: =G19/$C$5 -> #DIV/0! | J19: =I19/$C$5 -> #DIV/0! | L19: =K19/$C$5 -> #DIV/0! | M19: =IF((C19+E19+G19+I19+K19)=C$5, " ","ошибка")
B20: Рынок услуг связи | D20: =C20/$C$5 -> #DIV/0! | F20: =E20/$C$5 -> #DIV/0! | H20: =G20/$C$5 -> #DIV/0! | J20: =I20/$C$5 -> #DIV/0! | L20: =K20/$C$5 -> #DIV/0! | M20: =IF((C20+E20+G20+I20+K20)=C$5, " ","ошибка")
B21: Рынок услуг перевозок пассажиров наземным транспортом | D21: =C21/$C$5 -> #DIV/0! | F21: =E21/$C$5 -> #DIV/0! | H21: =G21/$C$5 -> #DIV/0! | J21: =I21/$C$5 -> #DIV/0! | L21: =K21/$C$5 -> #DIV/0! | M21: =IF((C21+E21+G21+I21+K21)=C$5, " ","ошибка")
B22: Рынок товарного рыбоводства | D22: =C22/$C$5 -> #DIV/0! | F22: =E22/$C$5 -> #DIV/0! | H22: =G22/$C$5 -> #DIV/0! | J22: =I22/$C$5 -> #DIV/0! | L22: =K22/$C$5 -> #DIV/0! | M22: =IF((C22+E22+G22+I22+K22)=C$5, " ","ошибка")
B24: 1.2. Удовлетворенность качеством товаров, работ и услуг | C24: Варианты ответов
C25: удовлетворен | E25: Скорее удовлетворен | G25: Скорее не удовлетворен | I25: Не удовлетворен | K25: Затрудняюсь ответить
C26: Количество | D26: Доля, % | E26: Количество | F26: Доля, % | G26: Количество | H26: Доля, % | I26: Количество | J26: Доля, % | K26: Количество | L26: Доля, %
B27: Рынок услуг дошкольного образования | D27: =C27/$C$5 -> #DIV/0! | F27: =E27/$C$5 -> #DIV/0! | H27: =G27/$C$5 -> #DIV/0! | J27: =I27/$C$5 -> #DIV/0! | L27: =K27/$C$5 -> #DIV/0! | M27: =IF((C27+E27+G27+I27+K27)=C$5, " ","ошибка")
B28: Рынок услуг дополнительного образования детей | D28: =C28/$C$5 -> #DIV/0! | F28: =E28/$C$5 -> #DIV/0! | H28: =G28/$C$5 -> #DIV/0! | J28: =I28/$C$5 -> #DIV/0! | L28: =K28/$C$5 -> #DIV/0! | M28: =IF((C28+E28+G28+I28+K28)=C$5, " ","ошибка")
B29: Рынок услуг психолого-педагогического сопровождения детей с ОВЗ | D29: =C29/$C$5 -> #DIV/0! | F29: =E29/$C$5 -> #DIV/0! | H29: =G29/$C$5 -> #DIV/0! | J29: =I29/$C$5 -> #DIV/0! | L29: =K29/$C$5 -> #DIV/0! | M29: =IF((C29+E29+G29+I29+K29)=C$5, " ","ошибка")
B30: Рынок услуг детского отдыха и оздоровления | D30: =C30/$C$5 -> #DIV/0! | F30: =E30/$C$5 -> #DIV/0! | H30: =G30/$C$5 -> #DIV/0! | J30: =I30/$C$5 -> #DIV/0! | L30: =K30/$C$5 -> #DIV/0! | M30: =IF((C30+E30+G30+I30+K30)=C$5, " ","ошибка")
B31: Рынок услуг социального обслуживания населения | D31: =C31/$C$5 -> #DIV/0! | F31: =E31/$C$5 -> #DIV/0! | H31: =G31/$C$5 -> #DIV/0! | J31: =I31/$C$5 -> #DIV/0! | L31: =K31/$C$5 -> #DIV/0! | M31: =IF((C31+E31+G31+I31+K31)=C$5, " ","ошибка")
B32: Рынок медицинских услуг | D32: =C32/$C$5 -> #DIV/0! | F32: =E32/$C$5 -> #DIV/0! | H32: =G32/$C$5 -> #DIV/0! | J32: =I32/$C$5 -> #DIV/0! | L32: =K32/$C$5 -> #DIV/0! | M32: =IF((C32+E32+G32+I32+K32)=C$5, " ","ошибка")
B33: Рынок услуг в сфере культуры | D33: =C33/$C$5 -> #DIV/0! | F33: =E33/$C$5 -> #DIV/0! | H33: =G33/$C$5 -> #DIV/0! | J33: =I33/$C$5 -> #DIV/0! | L33: =K33/$C$5 -> #DIV/0! | M33: =IF((C33+E33+G33+I33+K33)=C$5, " ","ошибка")
B34: Рынок услуг ЖКХ | D34: =C34/$C$5 -> #DIV/0! | F34: =E34/$C$5 -> #DIV/0! | H34: =G34/$C$5 -> #DIV/0! | J34: =I34/$C$5 -> #DIV/0! | L34: =K34/$C$5 -> #DIV/0! | M34: =IF((C34+E34+G34+I34+K34)=C$5, " ","ошибка")
B35: Рынок розничной торговли | D35: =C35/$C$5 -> #DIV/0! | F35: =E35/$C$5 -> #DIV/0! | H35: =G35/$C$5 -> #DIV/0! | J35: =I35/$C$5 -> #DIV/0! | L35: =K35/$C$5 -> #DIV/0! | M35: =IF((C35+E35+G35+I35+K35)=C$5, " ","ошибка")
B36: Рынок услуг связи | D36: =C36/$C$5 -> #DIV/0! | F36: =E36/$C$5 -> #DIV/0! | H36: =G36/$C$5 -> #DIV/0! | J36: =I36/$C$5 -> #DIV/0! | L36: =K36/$C$5 -> #DIV/0! | M36: =IF((C36+E36+G36+I36+K36)=C$5, " ","ошибка")
B37: Рынок услуг перевозок пассажиров наземным транспортом | D37: =C37/$C$5 -> #DIV/0! | F37: =E37/$C$5 -> #DIV/0! | H37: =G37/$C$5 -> #DIV/0! | J37: =I37/$C$5 -> #DIV/0! | L37: =K37/$C$5 -> #DIV/0! | M37: =IF((C37+E37+G37+I37+K37)=C$5, " ","ошибка")
B38: Рынок товарного рыбоводства | D38: =C38/$C$5 -> #DIV/0! | F38: =E38/$C$5 -> #DIV/0! | H38: =G38/$C$5 -> #DIV/0! | J38: =I38/$C$5 -> #DIV/0! | L38: =K38/$C$5 -> #DIV/0! | M38: =IF((C38+E38+G38+I38+K38)=C$5, " ","ошибка")
B40: 1.3. Удовлетворенность возможностью выбора товаров, работ и услуг | C40: Варианты ответов
C41: удовлетворен | E41: Скорее удовлетворен | G41: Скорее не удовлетворен | I41: Не удовлетворен | K41: Затрудняюсь ответить
C42: Количество | D42: Доля, % | E42: Количество | F42: Доля, % | G42: Количество | H42: Доля, % | I42: Количество | J42: Доля, % | K42: Количество | L42: Доля, %
B43: Рынок услуг дошкольного образования | D43: =C43/$C$5 -> #DIV/0! | F43: =E43/$C$5 -> #DIV/0! | H43: =G43/$C$5 -> #DIV/0! | J43: =I43/$C$5 -> #DIV/0! | L43: =K43/$C$5 -> #DIV/0! | M43: =IF((C43+E43+G43+I43+K43)=C$5, " ","ошибка")
B44: Рынок услуг дополнительного образования детей | D44: =C44/$C$5 -> #DIV/0! | F44: =E44/$C$5 -> #DIV/0! | H44: =G44/$C$5 -> #DIV/0! | J44: =I44/$C$5 -> #DIV/0! | L44: =K44/$C$5 -> #DIV/0! | M44: =IF((C44+E44+G44+I44+K44)=C$5, " ","ошибка")
...

Sheet оценка конкуренции
B2: РЕЗУЛЬТАТЫ ОПРОСА ПОТРЕБИТЕЛЕЙ
B3: =население!B3 -> ____________________ | C3: (район)
B4: Объем выборки | C4: =население!C4 -> 0 | D4: человек
B5: Фактически опрошено | C5: =население!C5 -> 0 | D5: человек
B7: 2. ОЦЕНКА СОСТОЯНИЯ КОНКУРЕНЦИИ И КОНКУРЕНТНОЙ СРЕДЫ
B9: 2.1. Количество организаций, предоставляющих товары, работы и услуги на рынке | C9: Варианты ответов
C10: Избыточно (много) | E10: Достаточно | G10: Мало | I10: Нет совсем | K10: Затрудняюсь ответить
C11: Количество | D11: Доля, % | E11: Количество | F11: Доля, % | G11: Количество | H11: Доля, % | I11: Количество | J11: Доля, % | K11: Количество | L11: Доля, %
B12: Рынок услуг дошкольного образования | C12: 3 | D12: =C12/$C$5 -> #DIV/0! | E12: 4 | F12: =E12/$C$5 -> #DIV/0! | G12: 2 | H12: =G12/$C$5 -> #DIV/0! | I12: 7 | J12: =I12/$C$5 -> #DIV/0! | K12: 4 | L12: =K12/$C$5 -> #DIV/0! | M12: =IF((C12+E12+G12+I12+K12)=C$5, " ","ошибка") -> ошибка
B13: Рынок услуг дополнительного образования детей | C13: 5 | D13: =C13/$C$5 -> #DIV/0! | E13: 8 | F13: =E13/$C$5 -> #DIV/0! | H13: =G13/$C$5 -> #DIV/0! | J13: =I13/$C$5 -> #DIV/0! | L13: =K13/$C$5 -> #DIV/0! | M13: =IF((C13+E13+G13+I13+K13)=C$5, " ","ошибка") -> ошибка
B14: Рынок услуг психолого-педагогического сопровождения детей с ОВЗ | D14: =C14/$C$5 -> #DIV/0! | F14: =E14/$C$5 -> #DIV/0! | H14: =G14/$C$5 -> #DIV/0! | J14: =I14/$C$5 -> #DIV/0! | L14: =K14/$C$5 -> #DIV/0! | M14: =IF((C14+E14+G14+I14+K14)=C$5, " ","ошибка")
B15: Рынок услуг детского отдыха и оздоровления | D15: =C15/$C$5 -> #DIV/0! | F15: =E15/$C$5 -> #DIV/0! | H15: =G15/$C$5 -> #DIV/0! | J15: =I15/$C$5 -> #DIV/0! | L15: =K15/$C$5 -> #DIV/0! | M15: =IF((C15+E15+G15+I15+K15)=C$5, " ","ошибка")
B16: Рынок услуг социального обслуживания населения | D16: =C16/$C$5 -> #DIV/0! | F16: =E16/$C$5 -> #DIV/0! | H16: =G16/$C$5 -> #DIV/0! | J16: =I16/$C$5 -> #DIV/0! | L16: =K16/$C$5 -> #DIV/0! | M16: =IF((C16+E16+G16+I16+K16)=C$5, " ","ошибка")
B17: Рынок медицинских услуг | D17: =C17/$C$5 -> #DIV/0! | F17: =E17/$C$5 -> #DIV/0! | H17: =G17/$C$5 -> #DIV/0! | J17: =I17/$C$5 -> #DIV/0! | L17: =K17/$C$5 -> #DIV/0! | M17: =IF((C17+E17+G17+I17+K17)=C$5, " ","ошибка")
B18: Рынок услуг в сфере культуры | D18: =C18/$C$5 -> #DIV/0! | F18: =E18/$C$5 -> #DIV/0! | H18: =G18/$C$5 -> #DIV/0! | J18: =I18/$C$5 -> #DIV/0! | L18: =K18/$C$5 -> #DIV/0! | M18: =IF((C18+E18+G18+I18+K18)=C$5, " ","ошибка")
B19: Рынок услуг ЖКХ | D19: =C19/$C$5 -> #DIV/0! | F19: =E19/$C$5 -> #DIV/0! | H19: =G19/$C$5 -> #DIV/0! | J19: =I19/$C$5 -> #DIV/0! | L19: =K19/$C$5 -> #DIV/0! | M19: =IF((C19+E19+G19+I19+K19)=C$5, " ","ошибка")
B20: Рынок розничной торговли | D20: =C20/$C$5 -> #DIV/0! | F20: =E20/$C$5 -> #DIV/0! | H20: =G20/$C$5 -> #DIV/0! | J20: =I20/$C$5 -> #DIV/0! | L20: =K20/$C$5 -> #DIV/0! | M20: =IF((C20+E20+G20+I20+K20)=C$5, " ","ошибка")
B21: Рынок услуг связи | D21: =C21/$C$5 -> #DIV/0! | F21: =E21/$C$5 -> #DIV/0! | H21: =G21/$C$5 -> #DIV/0! | J21: =I21/$C$5 -> #DIV/0! | L21: =K21/$C$5 -> #DIV/0! | M21: =IF((C21+E21+G21+I21+K21)=C$5, " ","ошибка")
B22: Рынок услуг перевозок пассажиров наземным транспортом | D22: =C22/$C$5 -> #DIV/0! | F22: =E22/$C$5 -> #DIV/0! | H22: =G22/$C$5 -> #DIV/0! | J22: =I22/$C$5 -> #DIV/0! | L22: =K22/$C$5 -> #DIV/0! | M22: =IF((C22+E22+G22+I22+K22)=C$5, " ","ошибка")
B23: Рынок товарного рыбоводства | D23: =C23/$C$5 -> #DIV/0! | F23: =E23/$C$5 -> #DIV/0! | H23: =G23/$C$5 -> #DIV/0! | J23: =I23/$C$5 -> #DIV/0! | L23: =K23/$C$5 -> #DIV/0! | M23: =IF((C23+E23+G23+I23+K23)=C$5, " ","ошибка")
B25: 2.2. Изменение количества организаций, предоставляющих товары, работы и услуги на рынке, в течение последних 3-х лет | C25: Варианты ответов
C26: Снижение | E26: Увеличение | G26: Не изменилось | I26: Затрудняюсь ответить
C27: Количество респондентов, чел | D27: Доля, % | E27: Количество респондентов, чел | F27: Доля, % | G27: Количество респондентов, чел | H27: Доля, % | I27: Количество респондентов, чел | J27: Доля, %
B28: Рынок услуг дошкольного образования | D28: =C28/$C$5 -> #DIV/0! | F28: =E28/$C$5 -> #DIV/0! | H28: =G28/$C$5 -> #DIV/0! | J28: =I28/$C$5 -> #DIV/0! | K28: =IF((C28+E28+G28+I28)=C$5, " ","ошибка")
B29: Рынок услуг дополнительного образования детей | D29: =C29/$C$5 -> #DIV/0! | F29: =E29/$C$5 -> #DIV/0! | H29: =G29/$C$5 -> #DIV/0! | J29: =I29/$C$5 -> #DIV/0! | K29: =IF((C29+E29+G29+I29)=C$5, " ","ошибка")
B30: Рынок услуг психолого-педагогического сопровождения детей с ОВЗ | D30: =C30/$C$5 -> #DIV/0! | F30: =E30/$C$5 -> #DIV/0! | H30: =G30/$C$5 -> #DIV/0! | J30: =I30/$C$5 -> #DIV/0! | K30: =IF((C30+E30+G30+I30)=C$5, " ","ошибка")
B31: Рынок услуг детского отдыха и оздоровления | D31: =C31/$C$5 -> #DIV/0! | F31: =E31/$C$5 -> #DIV/0! | H31: =G31/$C$5 -> #DIV/0! | J31: =I31/$C$5 -> #DIV/0! | K31: =IF((C31+E31+G31+I31)=C$5, " ","ошибка")
B32: Рынок услуг социального обслуживания населения | D32: =C32/$C$5 -> #DIV/0! | F32: =E32/$C$5 -> #DIV/0! | H32: =G32/$C$5 -> #DIV/0! | J32: =I32/$C$5 -> #DIV/0! | K32: =IF((C32+E32+G32+I32)=C$5, " ","ошибка")
B33: Рынок медицинских услуг | D33: =C33/$C$5 -> #DIV/0! | F33: =E33/$C$5 -> #DIV/0! | H33: =G33/$C$5 -> #DIV/0! | J33: =I33/$C$5 -> #DIV/0! | K33: =IF((C33+E33+G33+I33)=C$5, " ","ошибка")
B34: Рынок услуг в сфере культуры | D34: =C34/$C$5 -> #DIV/0! | F34: =E34/$C$5 -> #DIV/0! | H34: =G34/$C$5 -> #DIV/0! | J34: =I34/$C$5 -> #DIV/0! | K34: =IF((C34+E34+G34+I34)=C$5, " ","ошибка")
B35: Рынок услуг ЖКХ | D35: =C35/$C$5 -> #DIV/0! | F35: =E35/$C$5 -> #DIV/0! | H35: =G35/$C$5 -> #DIV/0! | J35: =I35/$C$5 -> #DIV/0! | K35: =IF((C35+E35+G35+I35)=C$5, " ","ошибка")
B36: Рынок розничной торговли | D36: =C36/$C$5 -> #DIV/0! | F36: =E36/$C$5 -> #DIV/0! | H36: =G36/$C$5 -> #DIV/0! | J36: =I36/$C$5 -> #DIV/0! | K36: =IF((C36+E36+G36+I36)=C$5, " ","ошибка")
B37: Рынок услуг связи | D37: =C37/$C$5 -> #DIV/0! | F37: =E37/$C$5 -> #DIV/0! | H37: =G37/$C$5 -> #DIV/0! | J37: =I37/$C$5 -> #DIV/0! | K37: =IF((C37+E37+G37+I37)=C$5, " ","ошибка")
B38: Рынок услуг перевозок пассажиров наземным транспортом | D38: =C38/$C$5 -> #DIV/0! | F38: =E38/$C$5 -> #DIV/0! | H38: =G38/$C$5 -> #DIV/0! | J38: =I38/$C$5 -> #DIV/0! | K38: =IF((C38+E38+G38+I38)=C$5, " ","ошибка")
B39: Рынок сырого молока | D39: =C39/$C$5 -> #DIV/0! | F39: =E39/$C$5 -> #DIV/0! | H39: =G39/$C$5 -> #DIV/0! | J39: =I39/$C$5 -> #DIV/0! | K39: =IF((C39+E39+G39+I39)=C$5, " ","ошибка")
B40: Рынок товарного рыбоводства | D40: =C40/$C$5 -> #DIV/0! | F40: =E40/$C$5 -> #DIV/0! | H40: =G40/$C$5 -> #DIV/0! | J40: =I40/$C$5 -> #DIV/0! | K40: =IF((C40+E40+G40+I40)=C$5, " ","ошибка")

Sheet информация
B2: РЕЗУЛЬТАТЫ ОПРОСА ПОТРЕБИТЕЛЕЙ
B3: =население!B3 -> ____________________ | C3: (район)
B4: Объем выборки | C4: =население!C4 -> 0 | D4: человек
B5: Фактически опрошено | C5: =население!C5 -> 0 | D5: человек
B7: 3. УДОВЛЕТВОРЕННОСТЬ КАЧЕСТВОМ ОФИЦИАЛЬНОЙ ИНФОРМАЦИИ
B9: Качество официальной информации о состоянии конкурентной среды, размещаемой в открытом доступе | C9: Варианты ответов
C10: Удовлетворительно | E10: Скорее удовлетворительно | G10: Скорее неудовлетворительно | I10: Неудовлетворительно | K10: Затрудняюсь ответить
C11: Количество респондентов, чел | D11: Доля от числа опрошенных | E11: Количество респондентов, чел | F11: Доля от числа опрошенных | G11: Количество респондентов, чел | H11: Доля от числа опрошенных | I11: Количество респондентов, чел | J11: Доля от числа опрошенных | K11: Количество респондентов, чел | L11: Доля от числа опрошенных
B12: Уровень доступности | D12: =C12/$C$5 -> #DIV/0! | F12: =E12/$C$5 -> #DIV/0! | H12: =G12/$C$5 -> #DIV/0! | J12: =I12/$C$5 -> #DIV/0! | L12: =K12/$C$5 -> #DIV/0! | M12: =IF((C12+E12+G12+I12+K12)=C$5, " ","ошибка")
B13: Уровень понятности | D13: =C13/$C$5 -> #DIV/0! | F13: =E13/$C$5 -> #DIV/0! | H13: =G13/$C$5 -> #DIV/0! | J13: =I13/$C$5 -> #DIV/0! | L13: =K13/$C$5 -> #DIV/0! | M13: =IF((C13+E13+G13+I13+K13)=C$5, " ","ошибка")
B14: Удобство получения | D14: =C14/$C$5 -> #DIV/0! | F14: =E14/$C$5 -> #DIV/0! | H14: =G14/$C$5 -> #DIV/0! | J14: =I14/$C$5 -> #DIV/0! | L14: =K14/$C$5 -> #DIV/0! | M14: =IF((C14+E14+G14+I14+K14)=C$5, " ","ошибка")

Sheet субъекты естест монополий
B2: РЕЗУЛЬТАТЫ ОПРОСА ПОТРЕБИТЕЛЕЙ
B3: =население!B3 -> ____________________ | C3: (район)
B4: Объем выборки | C4: =население!C4 -> 0 | D4: человек
B5: Фактически опрошено | C5: =население!C5 -> 0 | D5: человек
B7: IV. УДОВЛЕТВОРЕННОСТЬ КАЧЕСТВОМ ТОВАРОВ И УСЛУГ, ПРЕДОСТАВЛЯЕМЫХ СУБЪЕКТАМИ ЕСТЕСТВЕННЫХ МОНОПОЛИЙ
B9: Качество товаров и услуг, предоставляемых субъектами естественных монополий | C9: Варианты ответов
C10: Удовлетворительно | E10: Скорее удовлетворительно | G10: Скорее неудовлетворительно | I10: Неудовлетворительно | K10: Затрудняюсь ответить
C11: Количество респондентов, чел | D11: Доля от числа опрошенных | E11: Количество респондентов, чел | F11: Доля от числа опрошенных | G11: Количество респондентов, чел | H11: Доля от числа опрошенных | I11: Количество респондентов, чел | J11: Доля от числа опрошенных | K11: Количество респондентов, чел | L11: Доля от числа опрошенных
B12: Водоснабжение | D12: =C12/$C$5 -> #DIV/0! | F12: =E12/$C$5 -> #DIV/0! | H12: =G12/$C$5 -> #DIV/0! | J12: =I12/$C$5 -> #DIV/0! | L12: =K12/$C$5 -> #DIV/0! | M12: =IF((C12+E12+G12+I12+K12)=C$5, " ","ошибка")
B13: Водоотведение | D13: =C13/$C$5 -> #DIV/0! | F13: =E13/$C$5 -> #DIV/0! | H13: =G13/$C$5 -> #DIV/0! | J13: =I13/$C$5 -> #DIV/0! | L13: =K13/$C$5 -> #DIV/0! | M13: =IF((C13+E13+G13+I13+K13)=C$5, " ","ошибка")
B14: Газоснабжение (централизованное) | D14: =C14/$C$5 -> #DIV/0! | F14: =E14/$C$5 -> #DIV/0! | H14: =G14/$C$5 -> #DIV/0! | J14: =I14/$C$5 -> #DIV/0! | L14: =K14/$C$5 -> #DIV/0! | M14: =IF((C14+E14+G14+I14+K14)=C$5, " ","ошибка")
B15: Газоснабжение (нецентрализованное) | D15: =C15/$C$5 -> #DIV/0! | F15: =E15/$C$5 -> #DIV/0! | H15: =G15/$C$5 -> #DIV/0! | J15: =I15/$C$5 -> #DIV/0! | L15: =K15/$C$5 -> #DIV/0! | M15: =IF((C15+E15+G15+I15+K15)=C$5, " ","ошибка")
B16: Электроснабжение | D16: =C16/$C$5 -> #DIV/0! | F16: =E16/$C$5 -> #DIV/0! | H16: =G16/$C$5 -> #DIV/0! | J16: =I16/$C$5 -> #DIV/0! | L16: =K16/$C$5 -> #DIV/0! | M16: =IF((C16+E16+G16+I16+K16)=C$5, " ","ошибка")
B17: Теплоснабжение | D17: =C17/$C$5 -> #DIV/0! | F17: =E17/$C$5 -> #DIV/0! | H17: =G17/$C$5 -> #DIV/0! | J17: =I17/$C$5 -> #DIV/0! | L17: =K17/$C$5 -> #DIV/0! | M17: =IF((C17+E17+G17+I17+K17)=C$5, " ","ошибка")
B18: Телефонная связь | D18: =C18/$C$5 -> #DIV/0! | F18: =E18/$C$5 -> #DIV/0! | H18: =G18/$C$5 -> #DIV/0! | J18: =I18/$C$5 -> #DIV/0! | L18: =K18/$C$5 -> #DIV/0! | M18: =IF((C18+E18+G18+I18+K18)=C$5, " ","ошибка")

Sheet предложения
B2: РЕЗУЛЬТАТЫ ОПРОСА ПОТРЕБИТЕЛЕЙ
B3: =население!B3 -> ____________________ | C3: (район)
B4: Объем выборки | C4: =население!C4 -> 0 | D4: человек
B5: Фактически опрошено | C5: =население!C5 -> 0 | D5: человек
B7: ПРЕДЛОЖЕНИЯ ОБ УЛУЧШЕНИИ ЭФФЕКТИВНОСТИ И РЕЗУЛЬТАТИВНОСТИ ИСПОЛНИТЕЛЬНЫХ ОРГАНОВ ГОСУДАРСТВЕННОЙ ВЛАСТИ И ОРГАНОВ МЕСТНОГО САМОУПРАВЛЕНИЯ
C9: Варианты ответов | D9: Количество респондентов, чел | E9: Доля от числа опрошенных, %
B10: Обращались ли Вы за защитой своих прав, как потребитель, в соответствующие органы? | C10: Да | E10: =D10/$C$5 -> #DIV/0!
C11: Нет | E11: =D11/$C$5 -> #DIV/0!
B12: Если да, то в какой (укажите)
E13: =D13/$C$5 -> #DIV/0!
E14: =D14/$C$5 -> #DIV/0!
E15: =D15/$C$5 -> #DIV/0!
E16: =D16/$C$5 -> #DIV/0!
E17: =D17/$C$5 -> #DIV/0!
B19: Варианты ответов | C19: Количество респондентов, чел | D19: Доля от числа опрошенных, %
B20: Создание системы информирования населения о работе различных компаний, защите прав потребителей и состоянии конкуренции | D20: =C20/$C$5 -> #DIV/0!
B21: Обеспечение условий, при которых ни одна компания не может полностью диктовать условия на рынке | D21: =C21/$C$5 -> #DIV/0!
B22: Контроль над ростом цен | D22: =C22/$C$5 -> #DIV/0!
B23: Контроль качества продукции | D23: =C23/$C$5 -> #DIV/0!
B24: Обеспечение условий добросовестной конкуренции | D24: =C24/$C$5 -> #DIV/0!
B25: Помощь начинающим предпринимателям | D25: =C25/$C$5 -> #DIV/0!
B26: Контроль работы естественных монополий, таких как водоснабжение, электро- и теплоснабжение, железнодорожный транспорт | D26: =C26/$C$5 -> #DIV/0!
B27: Сокращение муниципальных предприятий, оказывающих услуги населению, за счет появления новых коммерческих предприятий | D27: =C27/$C$5 -> #DIV/0!
B28: Повышение открытости процедур муниципальных конкурсов и закупок | D28: =C28/$C$5 -> #DIV/0!
B29: Ведение учета обращений граждан, связанных с проблемами развития конкуренции | D29: =C29/$C$5 -> #DIV/0!
B30: Юридическая защита предпринимателей | D30: =C30/$C$5 -> #DIV/0!
B31: Другое | D31: =C31/$C$5 -> #DIV/0!
