Workbook

Sheet население
B2: РЕЗУЛЬТАТЫ ОПРОСА ПОТРЕБИТЕЛЕЙ
B3: ____________________ | C3: (район)
B4: Объем выборки | D4: человек
B5: Фактически опрошено | D5: человек
B6: СОЦИАЛЬНО-ДЕМОГРАФИЧЕСКИЕ ХАРАКТЕРИСТИКИ
B8: Критерии | C8: Варианты ответов | D8: Кол-во респондентов, чел. | E8: Доля от числа опрошенных, %
B9: 1. Половой состав | C9: мужчины | E9: =D9/$C$5 -> #DIV/0! | F9: =IF((D9+D10)=C$5, " ","ошибка")
C10: женщины | E10: =D10/$C$5 -> #DIV/0!
B11: 2. Возрастной состав | C11: До 20 лет | E11: =D11/$C$5 -> #DIV/0! | F11: =IF((D11+D12+D13+D14)=C$5, " ","ошибка")
C12: От 21 года до 35 лет | E12: =D12/$C$5 -> #DIV/0!
C13: От 36 до 50 лет | E13: =D13/$C$5 -> #DIV/0!
C14: Старше 51 года | E14: =D14/$C$5 -> #DIV/0!
B15: 3. Социальный статус | C15: Работаю | E15: =D15/$C$5 -> #DIV/0! | F15: =IF((D15+D16+D17+D18+D19+D20)=C$5, " ","ошибка")
C16: Без работы | E16: =D16/$C$5 -> #DIV/0!
C17: Учусь / студент | E17: =D17/$C$5 -> #DIV/0!
C18: Домохозяйка (домохозяин) | E18: =D18/$C$5 -> #DIV/0!
C19: Пенсионер | E19: =D19/$C$5 -> #DIV/0!
C20: Иное | E20: =D20/$C$5 -> #DIV/0!
B21: 4. Наличие детей | C21: Нет детей | E21: =D21/$C$5 -> #DIV/0! | F21: =IF((D21+D22+D23+D24)=C$5, " ","ошибка")
C22: 1 ребенок | E22: =D22/$C$5 -> #DIV/0!
C23: 2 ребенка | E23: =D23/$C$5 -> #DIV/0!
C24: 3 и более детей | E24: =D24/$C$5 -> #DIV/0!
B25: 5. Образование | C25: Общее среднее | E25: =D25/$C$5 -> #DIV/0! | F25: =IF((D25+D26+D27+D28+D29+D30)=C$5, " ","ошибка")
C26: Среднее специальное | E26: =D26/$C$5 -> #DIV/0!
C27: Неполное высшее | E27: =D27/$C$5 -> #DIV/0!
C28: Высшее | E28: =D28/$C$5 -> #DIV/0!
C29: Научная степень | E29: =D29/$C$5 -> #DIV/0!
C30: Иное | E30: =D30/$C$5 -> #DIV/0!
B31: 6. Примерный среднемесячный доход на 1 члена семьи | C31: До 10 тыс. рублей | E31: =D31/$C$5 -> #DIV/0! | F31: =IF((D31+D32+D33+D34+D35+D36)=C$5, " ","ошибка")
C32: От 10 до 20 тыс. рублей | E32: =D32/$C$5 -> #DIV/0!
C33: От 20 до 30 тыс. рублей | E33: =D33/$C$5 -> #DIV/0!
C34: От 30 до 45 тыс. рублей | E34: =D34/$C$5 -> #DIV/0!
C35: От 45 до 60 тыс. рублей | E35: =D35/$C$5 -> #DIV/0!
C36: Более 60 тыс. рублей | E36: =D36/$C$5 -> #DIV/0!

Sheet удовлетворенность
B2: РЕЗУЛЬТАТЫ ОПРОСА ПОТРЕБИТЕЛЕЙ
B3: =население!B3 -> ____________________ | C3: (район)
B4: Объем выборки | C4: =население!C4 -> 0 | D4: человек
B5: Фактически опрошено | C5: =население!C5 -> 0 | D5: человек
B7: 1. УДОВЛЕТВОРЕННОСТЬ КАЧЕСТВОМ И ЦЕНАМИ ТОВАРОВ, РАБОТ И УСЛУГ
B8: 1.1. Удовлетворенность уровнем цен | C8: Варианты ответов
C9: удовлетворен | E9: Скорее удовлетворен | G9: Скорее не удовлетворен | I9: Не удовлетворен | K9: Затрудняюсь ответить
C10: Количество | D10: Доля, % | E10: Количество | F10: Доля, % | G10: Количество | H10: Доля, % | I10: Количество | J10: Доля, % | K10: Количество | L10: Доля, %
B11: Рынок услуг дошкольного образования | D11: =C11/$C$5 -> #DIV/0! | F11: =E11/$C$5 -> #DIV/0! | H11: =G11/$C$5 -> #DIV/0! | J11: =I11/$C$5 -> #DIV/0! | L11: =K11/$C$5 -> #DIV/0! | M11: =IF((C11+E11+G11+I11+K11)=C$5, " ","ошибка")
B12: Рынок услуг дополнительного образования детей | D12: =C12/$C$5 -> #DIV/0! | F12: =E12/$C$5 -> #DIV/0! | H12: =G12/$C$5 -> #DIV/0! | J12: =I12/$C$5 -> #DIV/0! | L12: =K12/$C$5 -> #DIV/0! | M12: =IF((C12+E12+G12+I12+K12)=C$5, " ","ошибка")
B13: Рынок услуг психолого-педагогического сопровождения детей с ОВЗ | D13: =C13/$C$5 -> #DIV/0! | F13: =E13/$C$5 -> #DIV/0! | H13: =G13/$C$5 -> #DIV/0! | J13: =I13/$C$5 -> #DIV/0! | L13: =K13/$C$5 -> #DIV/0! | M13: =IF((C13+E13+G13+I13+K13)=C$5, " ","ошибка")
B14: Рынок услуг детского отдыха и оздоровления | D14: =C14/$C$5 -> #DIV/0! | F14: =E14/$C$5 -> #DIV/0! | H14: =G14/$C$5 -> #DIV/0! | J14: =I14/$C$5 -> #DIV/0! | L14: =K14/$C$5 -> #DIV/0! | M14: =IF((C14+E14+G14+I14+K14)=C$5, " ","ошибка")
B15: Рынок услуг социального обслуживания населения | D15: =C15/$C$5 -> #DIV/0! | F15: =E15/$C$5 -> #DIV/0! | H15: =G15/$C$5 -> #DIV/0! | J15: =I15/$C$5 -> #DIV/0! | L15: =K15/$C$5 -> #DIV/0! | M15: =IF((C15+E15+G15+I15+K15)=C$5, " ","ошибка")
B16: Рынок медицинских услуг | D16: =C16/$C$5 -> #DIV/0! | F16: =E16/$C$5 -> #DIV/0! | H16: =G16/$C$5 -> #DIV/0! | J16: =I16/$C$5 -> #DIV/0! | L16: =K16/$C$5 -> #DIV/0! | M16: =IF((C16+E16+G16+I16+K16)=C$5, " ","ошибка")
B17: Рынок услуг в сфере культуры | D17: =C17/$C$5 -> #DIV/0! | F17: =E17/$C$5 -> #DIV/0! | H17: =G17/$C$5 -> #DIV/0! | J17: =I17/$C$5 -> #DIV/0! | L17: =K17/$C$5 -> #DIV/0! | M17: =IF((C17+E17+G17+I17+K17)=C$5, " ","ошибка")
B18: Рынок услуг ЖКХ | D18: =C18/$C$5 -> #DIV/0! | F18: =E18/$C$5 -> #DIV/0! | H18: =G18/$C$5 -> #DIV/0! | J18: =I18/$C$5 -> #DIV/0! | L18: =K18/$C$5 -> #DIV/0! | M18: =IF((C18+E18+G18+I18+K18)=C$5, " ","ошибка")
B19: Рынок розничной торговли | D19: =C19/$C$5 -> #DIV/0! | F19: =E19/$C$5 -> #DIV/0! | H19: =G19/$C$5 -> #DIV/0! | J19: =I19/$C$5 -> #DIV/0! | L19: =K19/$C$5 -> #DIV/0! | M19: =IF((C19+E19+G19+I19+K19)=C$5, " ","ошибка")
B20: Рынок услуг связи | D20: =C20/$C$5 -> #DIV/0! | F20: =E20/$C$5 -> #DIV/0! | H20: =G20/$C$5 -> #DIV/0! | J20: =I20/$C$5 -> #DIV/0! | L20: =K20/$C$5 -> #DIV/0! | M20: =IF((C20+E20+G20+I20+K20)=C$5, " ","ошибка")
B21: Рынок услуг перевозок пассажиров наземным транспортом | D21: =C21/$C$5 -> #DIV/0! | F21: =E21/$C$5 -> #DIV/0! | H21: =G21/$C$5 -> #DIV/0! | J21: =I21/$C$5 -> #DIV/0! | L21: =K21/$C$5 -> #DIV/0! | M21: =IF((C21+E21+G21+I21+K21)=C$5, " ","ошибка")
B22: Рынок товарного рыбоводства | D22: =C22/$C$5 -> #DIV/0! | F22: =E22/$C$5 -> #DIV/0! | H22: =G22/$C$5 -> #DIV/0! | J22: =I22/$C$5 -> #DIV/0! | L22: =K22/$C$5 -> #DIV/0! | M22: =IF((C22+E22+G22+I22+K22)=C$5, " ","ошибка")
B24: 1.2. Удовлетворенность качеством товаров, работ и услуг | C24: Варианты ответов
C25: удовлетворен | E25: Скорее удовлетворен | G25: Скорее не удовлетворен | I25: Не удовлетворен | K25: Затрудняюсь ответить
C26: Количество | D26: Доля, % | E26: Количество | F26: Доля, % | G26: Количество | H26: Доля, % | I26: Количество | J26: Доля, % | K26: Количество | L26: Доля, %
B27: Рынок услуг дошкольного образования | D27: =C27/$C$5 -> #DIV/0! | F27: =E27/$C$5 -> #DIV/0! | H27: =G27/$C$5 -> #DIV/0! | J27: =I27/$C$5 -> #DIV/0! | L27: =K27/$C$5 -> #DIV/0! | M27: =IF((C27+E27+G27+I27+K27)=C$5, " ","ошибка")
B28: Рынок услуг дополнительного образования детей | D28: =C28/$C$5 -> #DIV/0! | F28: =E28/$C$5 -> #DIV/0! | H28: =G28/$C$5 -> #DIV/0! | J28: =I28/$C$5 -> #DIV/0! | L28: =K28/$C$5 -> #DIV/0! | M28: =IF((C28+E28+G28+I28+K28)=C$5, " ","ошибка")
B29: Рынок услуг психолого-педагогического сопровождения детей с ОВЗ | D29: =C29/$C$5 -> #DIV/0! | F29: =E29/$C$5 -> #DIV/0! | H29: =G29/$C$5 -> #DIV/0! | J29: =I29/$C$5 -> #DIV/0! | L29: =K29/$C$5 -> #DIV/0! | M29: =IF((C29+E29+G29+I29+K29)=C$5, " ","ошибка")
B30: Рынок услуг детского отдыха и оздоровления | D30: =C30/$C$5 -> #DIV/0! | F30: =E30/$C$5 -> #DIV/0! | H30: =G30/$C$5 -> #DIV/0! | J30: =I30/$C$5 -> #DIV/0! | L30: =K30/$C$5 -> #DIV/0! | M30: =IF((C30+E30+G30+I30+K30)=C$5, " ","ошибка")
B31: Рынок услуг социального обслуживания населения | D31: =C31/$C$5 -> #DIV/0! | F31: =E31/$C$5 -> #DIV/0! | H31: =G31/$C$5 -> #DIV/0! | J31: =I31/$C$5 -> #DIV/0! | L31: =K31/$C$5 -> #DIV/0! | M31: =IF((C31+E31+G31+I31+K31)=C$5, " ","ошибка")
B32: Рынок медицинских услуг | D32: =C32/$C$5 -> #DIV/0! | F32: =E32/$C$5 -> #DIV/0! | H32: =G32/$C$5 -> #DIV/0! | J32: =I32/$C$5 -> #DIV/0! | L32: =K32/$C$5 -> #DIV/0! | M32: =IF((C32+E32+G32+I32+K32)=C$5, " ","ошибка")
B33: Рынок услуг в сфере культуры | D33: =C33/$C$5 -> #DIV/0! | F33: =E33/$C$5 -> #DIV/0! | H33: =G33/$C$5 -> #DIV/0! | J33: =I33/$C$5 -> #DIV/0! | L33: =K33/$C$5 -> #DIV/0! | M33: =IF((C33+E33+G33+I33+K33)=C$5, " ","ошибка")
B34: Рынок услуг ЖКХ | D34: =C34/$C$5 -> #DIV/0! | F34: =E34/$C$5 -> #DIV/0! | H34: =G34/$C$5 -> #DIV/0! | J34: =I34/$C$5 -> #DIV/0! | L34: =K34/$C$5 -> #DIV/0! | M34: =IF((C34+E34+G34+I34+K34)=C$5, " ","ошибка")
B35: Рынок розничной торговли | D35: =C35/$C$5 -> #DIV/0! | F35: =E35/$C$5 -> #DIV/0! | H35: =G35/$C$5 -> #DIV/0! | J35: =I35/$C$5 -> #DIV/0! | L35: =K35/$C$5 -> #DIV/0! | M35: =IF((C35+E35+G35+I35+K35)=C$5, " ","ошибка")
B36: Рынок услуг связи | D36: =C36/$C$5 -> #DIV/0! | F36: =E36/$C$5 -> #DIV/0! | H36: =G36/$C$5 -> #DIV/0! | J36: =I36/$C$5 -> #DIV/0! | L36: =K36/$C$5 -> #DIV/0! | M36: =IF((C36+E36+G36+I36+K36)=C$5, " ","ошибка")
B37: Рынок услуг перевозок пассажиров наземным транспортом | D37: =C37/$C$5 -> #DIV/0! | F37: =E37/$C$5 -> #DIV/0! | H37: =G37/$C$5 -> #DIV/0! | J37: =I37/$C$5 -> #DIV/0! | L37: =K37/$C$5 -> #DIV/0! | M37: =IF((C37+E37+G37+I37+K37)=C$5, " ","ошибка")
B38: Рынок товарного рыбоводства | D38: =C38/$C$5 -> #DIV/0! | F38: =E38/$C$5 -> #DIV/0! | H38: =G38/$C$5 -> #DIV/0! | J38: =I38/$C$5 -> #DIV/0! | L38: =K38/$C$5 -> #DIV/0! | M38: =IF((C38+E38+G38+I38+K38)=C$5, " ","ошибка")
B40: 1.3. Удовлетворенность возможностью выбора товаров, работ и услуг | C40: Варианты ответов
C41: удовлетворен | E41: Скорее удовлетворен | G41: Скорее не удовлетворен | I41: Не удовлетворен | K41: Затрудняюсь ответить
C42: Количество | D42: Доля, % | E42: Количество | F42: Доля, % | G42: Количество | H42: Доля, % | I42: Количество | J42: Доля, % | K42: Количество | L42: Доля, %
B43: Рынок услуг дошкольного образования | D43: =C43/$C$5 -> #DIV/0! | F43: =E43/$C$5 -> #DIV/0! | H43: =G43/$C$5 -> #DIV/0! | J43: =I43/$C$5 -> #DIV/0! | L43: =K43/$C$5 -> #DIV/0! | M43: =IF((C43+E43+G43+I43+K43)=C$5, " ","ошибка")
B44: Рынок услуг дополнительного образования детей | D44: =C44/$C$5 -> #DIV/0! | F44: =E44/$C$5 -> #DIV/0! | H44: =G44/$C$5 -> #DIV/0! | J44: =I44/$C$5 -> #DIV/0! | L44: =K44/$C$5 -> #DIV/0! | M44: =IF((C44+E44+G44+I44+K44)=C$5, " ","ошибка")
B45: Рынок услуг психолого-педагогического сопровождения детей с ОВЗ | D45: =C45/$C$5 -> #DIV/0! | F45: =E45/$C$5 -> #DIV/0! | H45: =G45/$C$5 -> #DIV/0! | J45: =I45/$C$5 -> #DIV/0! | L45: =K45/$C$5 -> #DIV/0! | M45: =IF((C45+E45+G45+I45+K45)=C$5, " ","ошибка")
B46: Рынок услуг детского отдыха и оздоровления | D46: =C46/$C$5 -> #DIV/0! | F46: =E46/$C$5 -> #DIV/0! | H46: =G46/$C$5 -> #DIV/0! | J46: =I46/$C$5 -> #DIV/0! | L46: =K46/$C$5 -> #DIV/0! | M46: =IF((C46+E46+G46+I46+K46)=C$5, " ","ошибка")
B47: Рынок услуг социального обслуживания населения | D47: =C47/$C$5 -> #DIV/0! | F47: =E47/$C$5 -> #DIV/0! | H47: =G47/$C$5 -> #DIV/0! | J47: =I47/$C$5 -> #DIV/0! | L47: =K47/$C$5 -> #DIV/0! | M47: =IF((C47+E47+G47+I47+K47)=C$5, " ","ошибка")
B48: Рынок медицинских услуг | D48: =C48/$C$5 -> #DIV/0! | F48: =E48/$C$5 -> #DIV/0! | H48: =G48/$C$5 -> #DIV/0! | J48: =I48/$C$5 -> #DIV/0! | L48: =K48/$C$5 -> #DIV/0! | M48: =IF((C48+E48+G48+I48+K48)=C$5, " ","ошибка")
B49: Рынок услуг в сфере культуры | D49: =C49/$C$5 -> #DIV/0! | F49: =E49/$C$5 -> #DIV/0! | H49: =G49/$C$5 -> #DIV/0! | J49: =I49/$C$5 -> #DIV/0! | L49: =K49/$C$5 -> #DIV/0! | M49: =IF((C49+E49+G49+I49+K49)=C$5, " ","ошибка")
B50: Рынок услуг ЖКХ | D50: =C50/$C$5 -> #DIV/0! | F50: =E50/$C$5 -> #DIV/0! | H50: =G50/$C$5 -> #DIV/0! | J50: =I50/$C$5 -> #DIV/0! | L50: =K50/$C$5 -> #DIV/0! | M50: =IF((C50+E50+G50+I50+K50)=C$5, " ","ошибка")
B51: Рынок розничной торговли | D51: =C51/$C$5 -> #DIV/0! | F51: =E51/$C$5 -> #DIV/0! | H51: =G51/$C$5 -> #DIV/0! | J51: =I51/$C$5 -> #DIV/0! | L51: =K51/$C$5 -> #DIV/0! | M51: =IF((C51+E51+G51+I51+K51)=C$5, " ","ошибка")
B52: Рынок услуг связи | D52: =C52/$C$5 -> #DIV/0! | F52: =E52/$C$5 -> #DIV/0! | H52: =G52/$C$5 -> #DIV/0! | J52: =I52/$C$5 -> #DIV/0! | L52: =K52/$C$5 -> #DIV/0! | M52: =IF((C52+E52+G52+I52+K52)=C$5, " ","ошибка")
B53: Рынок услуг перевозок пассажиров наземным транспортом | D53: =C53/$C$5 -> #DIV/0! | F53: =E53/$C$5 -> #DIV/0! | H53: =G53/$C$5 -> #DIV/0! | J53: =I53/$C$5 -> #DIV/0! | L53: =K53/$C$5 -> #DIV/0! | M53: =IF((C53+E53+G53+I53+K53)=C$5, " ","ошибка")
B54: Рынок товарного рыбоводства | D54: =C54/$C$5 -> #DIV/0! | F54: =E54/$C$5 -> #DIV/0! | H54: =G54/$C$5 -> #DIV/0! | J54: =I54/$C$5 -> #DIV/0! | L54: =K54/$C$5 -> #DIV/0! | M54: =IF((C54+E54+G54+I54+K54)=C$5, " ","ошибка")
B56: 1.4. Изменение уровня цен товаров, работ и услуг в течение последних 3-х лет | C56: Варианты ответов
C57: Снижение | E57: Увеличение | G57: Не изменилось | I57: Затрудняюсь ответить
C58: Количество респондентов, чел | D58: Доля от числа опрошенных | E58: Количество респондентов, чел | F58: Доля от числа опрошенных | G58: Количество респондентов, чел | H58: Доля от числа опрошенных | I58: Количество респондентов, чел | J58: Доля от числа опрошенных
B59: Рынок услуг дошкольного образования | D59: =C59/$C$5 -> #DIV/0! | F59: =E59/$C$5 -> #DIV/0! | H59: =G59/$C$5 -> #DIV/0! | J59: =I59/$C$5 -> #DIV/0! | K59: =IF((C59+E59+G59+I59)=C$5, " ","ошибка")
B60: Рынок услуг дополнительного образования детей | D60: =C60/$C$5 -> #DIV/0! | F60: =E60/$C$5 -> #DIV/0! | H60: =G60/$C$5 -> #DIV/0! | J60: =I60/$C$5 -> #DIV/0! | K60: =IF((C60+E60+G60+I60)=C$5, " ","ошибка")
B61: Рынок услуг психолого-педагогического сопровождения детей с ОВЗ | D61: =C61/$C$5 -> #DIV/0! | F61: =E61/$C$5 -> #DIV/0! | H61: =G61/$C$5 -> #DIV/0! | J61: =I61/$C$5 -> #DIV/0! | K61: =IF((C61+E61+G61+I61)=C$5, " ","ошибка")
B62: Рынок услуг детского отдыха и оздоровления | D62: =C62/$C$5 -> #DIV/0! | F62: =E62/$C$5 -> #DIV/0! | H62: =G62/$C$5 -> #DIV/0! | J62: =I62/$C$5 -> #DIV/0! | K62: =IF((C62+E62+G62+I62)=C$5, " ","ошибка")
B63: Рынок услуг социального обслуживания населения | D63: =C63/$C$5 -> #DIV/0! | F63: =E63/$C$5 -> #DIV/0! | H63: =G63/$C$5 -> #DIV/0! | J63: =I63/$C$5 -> #DIV/0! | K63: =IF((C63+E63+G63+I63)=C$5, " ","ошибка")
B64: Рынок медицинских услуг | D64: =C64/$C$5 -> #DIV/0! | F64: =E64/$C$5 -> #DIV/0! | H64: =G64/$C$5 -> #DIV/0! | J64: =I64/$C$5 -> #DIV/0! | K64: =IF((C64+E64+G64+I64)=C$5, " ","ошибка")
B65: Рынок услуг в сфере культуры | D65: =C65/$C$5 -> #DIV/0! | F65: =E65/$C$5 -> #DIV/0! | H65: =G65/$C$5 -> #DIV/0! | J65: =I65/$C$5 -> #DIV/0! | K65: =IF((C65+E65+G65+I65)=C$5, " ","ошибка")
B66: Рынок услуг ЖКХ | D66: =C66/$C$5 -> #DIV/0! | F66: =E66/$C$5 -> #DIV/0! | H66: =G66/$C$5 -> #DIV/0! | J66: =I66/$C$5 -> #DIV/0! | K66: =IF((C66+E66+G66+I66)=C$5, " ","ошибка")
B67: Рынок розничной торговли | D67: =C67/$C$5 -> #DIV/0! | F67: =E67/$C$5 -> #DIV/0! | H67: =G67/$C$5 -> #DIV/0! | J67: =I67/$C$5 -> #DIV/0! | K67: =IF((C67+E67+G67+I67)=C$5, " ","ошибка")
B68: Рынок услуг связи | D68: =C68/$C$5 -> #DIV/0! | F68: =E68/$C$5 -> #DIV/0! | H68: =G68/$C$5 -> #DIV/0! | J68: =I68/$C$5 -> #DIV/0! | K68: =IF((C68+E68+G68+I68)=C$5, " ","ошибка")
B69: Рынок услуг перевозок пассажиров наземным транспортом | D69: =C69/$C$5 -> #DIV/0! | F69: =E69/$C$5 -> #DIV/0! | H69: =G69/$C$5 -> #DIV/0! | J69: =I69/$C$5 -> #DIV/0! | K69: =IF((C69+E69+G69+I69)=C$5, " ","ошибка")
B70: Рынок товарного рыбоводства | D70: =C70/$C$5 -> #DIV/0! | F70: =E70/$C$5 -> #DIV/0! | H70: =G70/$C$5 -> #DIV/0! | J70: =I70/$C$5 -> #DIV/0! | K70: =IF((C70+E70+G70+I70)=C$5, " ","ошибка")
B72: 1.5. Изменение качества товаров, работ и услуг в течение последних 3-х лет | C72: Варианты ответов
C73: Снижение | E73: Увеличение | G73: Не изменилось | I73: Затрудняюсь ответить
C74: Количество респондентов, чел | D74: Доля от числа опрошенных | E74: Количество респондентов, чел | F74: Доля от числа опрошенных | G74: Количество респондентов, чел | H74: Доля от числа опрошенных | I74: Количество респондентов, чел | J74: Доля от числа опрошенных
B75: Рынок услуг дошкольного образования | D75: =C75/$C$5 -> #DIV/0! | F75: =E75/$C$5 -> #DIV/0! | H75: =G75/$C$5 -> #DIV/0! | J75: =I75/$C$5 -> #DIV/0! | K75: =IF((C75+E75+G75+I75)=C$5, " ","ошибка")
B76: Рынок услуг дополнительного образования детей | D76: =C76/$C$5 -> #DIV/0! | F76: =E76/$C$5 -> #DIV/0! | H76: =G76/$C$5 -> #DIV/0! | J76: =I76/$C$5 -> #DIV/0! | K76: =IF((C76+E76+G76+I76)=C$5, " ","ошибка")
B77: Рынок услуг психолого-педагогического сопровождения детей с ОВЗ | D77: =C77/$C$5 -> #DIV/0! | F77: =E77/$C$5 -> #DIV/0! | H77: =G77/$C$5 -> #DIV/0! | J77: =I77/$C$5 -> #DIV/0! | K77: =IF((C77+E77+G77+I77)=C$5, " ","ошибка")
B78: Рынок услуг детского отдыха и оздоровления | D78: =C78/$C$5 -> #DIV/0! | F78: =E78/$C$5 -> #DIV/0! | H78: =G78/$C$5 -> #DIV/0! | J78: =I78/$C$5 -> #DIV/0! | K78: =IF((C78+E78+G78+I78)=C$5, " ","ошибка")
B79: Рынок услуг социального обслуживания населения | D79: =C79/$C$5 -> #DIV/0! | F79: =E79/$C$5 -> #DIV/0! | H79: =G79/$C$5 -> #DIV/0! | J79: =I79/$C$5 -> #DIV/0! | K79: =IF((C79+E79+G79+I79)=C$5, " ","ошибка")
B80: Рынок медицинских услуг | D80: =C80/$C$5 -> #DIV/0! | F80: =E80/$C$5 -> #DIV/0! | H80: =G80/$C$5 -> #DIV/0! | J80: =I80/$C$5 -> #DIV/0! | K80: =IF((C80+E80+G80+I80)=C$5, " ","ошибка")
B81: Рынок услуг в сфере культуры | D81: =C81/$C$5 -> #DIV/0! | F81: =E81/$C$5 -> #DIV/0! | H81: =G81/$C$5 -> #DIV/0! | J81: =I81/$C$5 -> #DIV/0! | K81: =IF((C81+E81+G81+I81)=C$5, " ","ошибка")
B82: Рынок услуг ЖКХ | D82: =C82/$C$5 -> #DIV/0! | F82: =E82/$C$5 -> #DIV/0! | H82: =G82/$C$5 -> #DIV/0! | J82: =I82/$C$5 -> #DIV/0! | K82: =IF((C82+E82+G82+I82)=C$5, " ","ошибка")
B83: Рынок розничной торговли | D83: =C83/$C$5 -> #DIV/0! | F83: =E83/$C$5 -> #DIV/0! | H83: =G83/$C$5 -> #DIV/0! | J83: =I83/$C$5 -> #DIV/0! | K83: =IF((C83+E83+G83+I83)=C$5, " ","ошибка")
B84: Рынок услуг связи | D84: =C84/$C$5 -> #DIV/0! | F84: =E84/$C$5 -> #DIV/0! | H84: =G84/$C$5 -> #DIV/0! | J84: =I84/$C$5 -> #DIV/0! | K84: =IF((C84+E84+G84+I84)=C$5, " ","ошибка")
B85: Рынок услуг перевозок пассажиров наземным транспортом | D85: =C85/$C$5 -> #DIV/0! | F85: =E85/$C$5 -> #DIV/0! | H85: =G85/$C$5 -> #DIV/0! | J85: =I85/$C$5 -> #DIV/0! | K85: =IF((C85+E85+G85+I85)=C$5, " ","ошибка")
B86: Рынок товарного рыбоводства | D86: =C86/$C$5 -> #DIV/0! | F86: =E86/$C$5 -> #DIV/0! | H86: =G86/$C$5 -> #DIV/0! | J86: =I86/$C$5 -> #DIV/0! | K86: =IF((C86+E86+G86+I86)=C$5, " ","ошибка")
B88: 1.6. Изменение возможности выбора товаров, работ и услуг в течение последних 3-х лет | C88: Варианты ответов
C89: Снижение | E89: Увеличение | G89: Не изменилось | I89: Затрудняюсь ответить
C90: Количество респондентов, чел | D90: Доля от числа опрошенных | E90: Количество респондентов, чел | F90: Доля от числа опрошенных | G90: Количество респондентов, чел | H90: Доля от числа опрошенных | I90: Количество респондентов, чел | J90: Доля от числа опрошенных
B91: Рынок услуг дошкольного образования | D91: =C91/$C$5 -> #DIV/0! | F91: =E91/$C$5 -> #DIV/0! | H91: =G91/$C$5 -> #DIV/0! | J91: =I91/$C$5 -> #DIV/0! | K91: =IF((C91+E91+G91+I91)=C$5, " ","ошибка")
B92: Рынок услуг дополнительного образования детей | D92: =C92/$C$5 -> #DIV/0! | F92: =E92/$C$5 -> #DIV/0! | H92: =G92/$C$5 -> #DIV/0! | J92: =I92/$C$5 -> #DIV/0! | K92: =IF((C92+E92+G92+I92)=C$5, " ","ошибка")
B93: Рынок услуг психолого-педагогического сопровождения детей с ОВЗ | D93: =C93/$C$5 -> #DIV/0! | F93: =E93/$C$5 -> #DIV/0! | H93: =G93/$C$5 -> #DIV/0! | J93: =I93/$C$5 -> #DIV/0! | K93: =IF((C93+E93+G93+I93)=C$5, " ","ошибка")
B94: Рынок услуг детского отдыха и оздоровления | D94: =C94/$C$5 -> #DIV/0! | F94: =E94/$C$5 -> #DIV/0! | H94: =G94/$C$5 -> #DIV/0! | J94: =I94/$C$5 -> #DIV/0! | K94: =IF((C94+E94+G94+I94)=C$5, " ","ошибка")
B95: Рынок услуг социального обслуживания населения | D95: =C95/$C$5 -> #DIV/0! | F95: =E95/$C$5 -> #DIV/0! | H95: =G95/$C$5 -> #DIV/0! | J95: =I95/$C$5 -> #DIV/0! | K95: =IF((C95+E95+G95+I95)=C$5, " ","ошибка")
B96: Рынок медицинских услуг | D96: =C96/$C$5 -> #DIV/0! | F96: =E96/$C$5 -> #DIV/0! | H96: =G96/$C$5 -> #DIV/0! | J96: =I96/$C$5 -> #DIV/0! | K96: =IF((C96+E96+G96+I96)=C$5, " ","ошибка")
B97: Рынок услуг в сфере культуры | D97: =C97/$C$5 -> #DIV/0! | F97: =E97/$C$5 -> #DIV/0! | H97: =G97/$C$5 -> #DIV/0! | J97: =I97/$C$5 -> #DIV/0! | K97: =IF((C97+E97+G97+I97)=C$5, " ","ошибка")
B98: Рынок услуг ЖКХ | D98: =C98/$C$5 -> #DIV/0! | F98: =E98/$C$5 -> #DIV/0! | H98: =G98/$C$5 -> #DIV/0! | J98: =I98/$C$5 -> #DIV/0! | K98: =IF((C98+E98+G98+I98)=C$5, " ","ошибка")
B99: Рынок розничной торговли | D99: =C99/$C$5 -> #DIV/0! | F99: =E99/$C$5 -> #DIV/0! | H99: =G99/$C$5 -> #DIV/0! | J99: =I99/$C$5 -> #DIV/0! | K99: =IF((C99+E99+G99+I99)=C$5, " ","ошибка")
B100: Рынок услуг связи | D100: =C100/$C$5 -> #DIV/0! | F100: =E100/$C$5 -> #DIV/0! | H100: =G100/$C$5 -> #DIV/0! | J100: =I100/$C$5 -> #DIV/0! | K100: =IF((C100+E100+G100+I100)=C$5, " ","ошибка")
B101: Рынок услуг перевозок пассажиров наземным транспортом | D101: =C101/$C$5 -> #DIV/0! | F101: =E101/$C$5 -> #DIV/0! | H101: =G101/$C$5 -> #DIV/0! | J101: =I101/$C$5 -> #DIV/0! | K101: =IF((C101+E101+G101+I101)=C$5, " ","ошибка")
B102: Рынок товарного рыбоводства | D102: =C102/$C$5 -> #DIV/0! | F102: =E102/$C$5 -> #DIV/0! | H102: =G102/$C$5 -> #DIV/0! | J102: =I102/$C$5 -> #DIV/0! | K102: =IF((C102+E102+G102+I102)=C$5, " ","ошибка")
B104: 1.7. Перечень товаров (услуг) на которые по мнению опрошенных цены в Томской области выше по сравнению с другими регионами | C104: Количество респондентов, чел | D104: Доля от числа опрошенных
D106: =C106/$C$5 -> #DIV/0!
D107: =C107/$C$5 -> #DIV/0!
D108: =C108/$C$5 -> #DIV/0!
D109: =C109/$C$5 -> #DIV/0!
...

Sheet оценка конкуренции
B2: РЕЗУЛЬТАТЫ ОПРОСА ПОТРЕБИТЕЛЕЙ
B3: =население!B3 -> ____________________ | C3: (район)
B4: Объем выборки | C4: =население!C4 -> 0 | D4: человек
B5: Фактически опрошено | C5: =население!C5 -> 0 | D5: человек
B7: 2. ОЦЕНКА СОСТОЯНИЯ КОНКУРЕНЦИИ И КОНКУРЕНТНОЙ СРЕДЫ
B9: 2.1. Количество организаций, предоставляющих товары, работы и услуги на рынке | C9: Варианты ответов
C10: Избыточно (много) | E10: Достаточно | G10: Мало | I10: Нет совсем | K10: Затрудняюсь ответить
C11: Количество | D11: Доля, % | E11: Количество | F11: Доля, % | G11: Количество | H11: Доля, % | I11: Количество | J11: Доля, % | K11: Количество | L11: Доля, %
B12: Рынок услуг дошкольного образования | C12: 3 | D12: =C12/$C$5 -> #DIV/0! | E12: 4 | F12: =E12/$C$5 -> #DIV/0! | G12: 2 | H12: =G12/$C$5 -> #DIV/0! | I12: 7 | J12: =I12/$C$5 -> #DIV/0! | K12: 4 | L12: =K12/$C$5 -> #DIV/0! | M12: =IF((C12+E12+G12+I12+K12)=C$5, " ","ошибка") -> ошибка
B13: Рынок услуг дополнительного образования детей | C13: 5 | D13: =C13/$C$5 -> #DIV/0! | E13: 8 | F13: =E13/$C$5 -> #DIV/0! | H13: =G13/$C$5 -> #DIV/0! | J13: =I13/$C$5 -> #DIV/0! | L13: =K13/$C$5 -> #DIV/0! | M13: =IF((C13+E13+G13+I13+K13)=C$5, " ","ошибка") -> ошибка
B14: Рынок услуг психолого-педагогического сопровождения детей с ОВЗ | D14: =C14/$C$5 -> #DIV/0! | F14: =E14/$C$5 -> #DIV/0! | H14: =G14/$C$5 -> #DIV/0! | J14: =I14/$C$5 -> #DIV/0! | L14: =K14/$C$5 -> #DIV/0! | M14: =IF((C14+E14+G14+I14+K14)=C$5, " ","ошибка")
B15: Рынок услуг детского отдыха и оздоровления | D15: =C15/$C$5 -> #DIV/0! | F15: =E15/$C$5 -> #DIV/0! | H15: =G15/$C$5 -> #DIV/0! | J15: =I15/$C$5 -> #DIV/0! | L15: =K15/$C$5 -> #DIV/0! | M15: =IF((C15+E15+G15+I15+K15)=C$5, " ","ошибка")
B16: Рынок услуг социального обслуживания населения | D16: =C16/$C$5 -> #DIV/0! | F16: =E16/$C$5 -> #DIV/0! | H16: =G16/$C$5 -> #DIV/0! | J16: =I16/$C$5 -> #DIV/0! | L16: =K16/$C$5 -> #DIV/0! | M16: =IF((C16+E16+G16+I16+K16)=C$5, " ","ошибка")
B17: Рынок медицинских услуг | D17: =C17/$C$5 -> #DIV/0! | F17: =E17/$C$5 -> #DIV/0! | H17: =G17/$C$5 -> #DIV/0! | J17: =I17/$C$5 -> #DIV/0! | L17: =K17/$C$5 -> #DIV/0! | M17: =IF((C17+E17+G17+I17+K17)=C$5, " ","ошибка")
B18: Рынок услуг в сфере культуры | D18: =C18/$C$5 -> #DIV/0! | F18: =E18/$C$5 -> #DIV/0! | H18: =G18/$C$5 -> #DIV/0! | J18: =I18/$C$5 -> #DIV/0! | L18: =K18/$C$5 -> #DIV/0! | M18: =IF((C18+E18+G18+I18+K18)=C$5, " ","ошибка")
B19: Рынок услуг ЖКХ | D19: =C19/$C$5 -> #DIV/0! | F19: =E19/$C$5 -> #DIV/0! | H19: =G19/$C$5 -> #DIV/0! | J19: =I19/$C$5 -> #DIV/0! | L19: =K19/$C$5 -> #DIV/0! | M19: =IF((C19+E19+G19+I19+K19)=C$5, " ","ошибка")
B20: Рынок розничной торговли | D20: =C20/$C$5 -> #DIV/0! | F20: =E20/$C$5 -> #DIV/0! | H20: =G20/$C$5 -> #DIV/0! | J20: =I20/$C$5 -> #DIV/0! | L20: =K20/$C$5 -> #DIV/0! | M20: =IF((C20+E20+G20+I20+K20)=C$5, " ","ошибка")
B21: Рынок услуг связи | D21: =C21/$C$5 -> #DIV/0! | F21: =E21/$C$5 -> #DIV/0! | H21: =G21/$C$5 -> #DIV/0! | J21: =I21/$C$5 -> #DIV/0! | L21: =K21/$C$5 -> #DIV/0! | M21: =IF((C21+E21+G21+I21+K21)=C$5, " ","ошибка")
B22: Рынок услуг перевозок пассажиров наземным транспортом | D22: =C22/$C$5 -> #DIV/0! | F22: =E22/$C$5 -> #DIV/0! | H22: =G22/$C$5 -> #DIV/0! | J22: =I22/$C$5 -> #DIV/0! | L22: =K22/$C$5 -> #DIV/0! | M22: =IF((C22+E22+G22+I22+K22)=C$5, " ","ошибка")
B23: Рынок товарного рыбоводства | D23: =C23/$C$5 -> #DIV/0! | F23: =E23/$C$5 -> #DIV/0! | H23: =G23/$C$5 -> #DIV/0! | J23: =I23/$C$5 -> #DIV/0! | L23: =K23/$C$5 -> #DIV/0! | M23: =IF((C23+E23+G23+I23+K23)=C$5, " ","ошибка")
B25: 2.2. Изменение количества организаций, предоставляющих товары, работы и услуги на рынке, в течение последних 3-х лет | C25: Варианты ответов
C26: Снижение | E26: Увеличение | G26: Не изменилось | I26: Затрудняюсь ответить
C27: Количество респондентов, чел | D27: Доля, % | E27: Количество респондентов, чел | F27: Доля, % | G27: Количество респондентов, чел | H27: Доля, % | I27: Количество респондентов, чел | J27: Доля, %
B28: Рынок услуг дошкольного образования | D28: =C28/$C$5 -> #DIV/0! | F28: =E28/$C$5 -> #DIV/0! | H28: =G28/$C$5 -> #DIV/0! | J28: =I28/$C$5 -> #DIV/0! | K28: =IF((C28+E28+G28+I28)=C$5, " ","ошибка")
B29: Рынок услуг дополнительного образования детей | D29: =C29/$C$5 -> #DIV/0! | F29: =E29/$C$5 -> #DIV/0! | H29: =G29/$C$5 -> #DIV/0! | J29: =I29/$C$5 -> #DIV/0! | K29: =IF((C29+E29+G29+I29)=C$5, " ","ошибка")
B30: Рынок услуг психолого-педагогического сопровождения детей с ОВЗ | D30: =C30/$C$5 -> #DIV/0! | F30: =E30/$C$5 -> #DIV/0! | H30: =G30/$C$5 -> #DIV/0! | J30: =I30/$C$5 -> #DIV/0! | K30: =IF((C30+E30+G30+I30)=C$5, " ","ошибка")
B31: Рынок услуг детского отдыха и оздоровления | D31: =C31/$C$5 -> #DIV/0! | F31: =E31/$C$5 -> #DIV/0! | H31: =G31/$C$5 -> #DIV/0! | J31: =I31/$C$5 -> #DIV/0! | K31: =IF((C31+E31+G31+I31)=C$5, " ","ошибка")
B32: Рынок услуг социального обслуживания населения | D32: =C32/$C$5 -> #DIV/0! | F32: =E32/$C$5 -> #DIV/0! | H32: =G32/$C$5 -> #DIV/0! | J32: =I32/$C$5 -> #DIV/0! | K32: =IF((C32+E32+G32+I32)=C$5, " ","ошибка")
B33: Рынок медицинских услуг | D33: =C33/$C$5 -> #DIV/0! | F33: =E33/$C$5 -> #DIV/0! | H33: =G33/$C$5 -> #DIV/0! | J33: =I33/$C$5 -> #DIV/0! | K33: =IF((C33+E33+G33+I33)=C$5, " ","ошибка")
B34: Рынок услуг в сфере культуры | D34: =C34/$C$5 -> #DIV/0! | F34: =E34/$C$5 -> #DIV/0! | H34: =G34/$C$5 -> #DIV/0! | J34: =I34/$C$5 -> #DIV/0! | K34: =IF((C34+E34+G34+I34)=C$5, " ","ошибка")
B35: Рынок услуг ЖКХ | D35: =C35/$C$5 -> #DIV/0! | F35: =E35/$C$5 -> #DIV/0! | H35: =G35/$C$5 -> #DIV/0! | J35: =I35/$C$5 -> #DIV/0! | K35: =IF((C35+E35+G35+I35)=C$5, " ","ошибка")
B36: Рынок розничной торговли | D36: =C36/$C$5 -> #DIV/0! | F36: =E36/$C$5 -> #DIV/0! | H36: =G36/$C$5 -> #DIV/0! | J36: =I36/$C$5 -> #DIV/0! | K36: =IF((C36+E36+G36+I36)=C$5, " ","ошибка")
B37: Рынок услуг связи | D37: =C37/$C$5 -> #DIV/0! | F37: =E37/$C$5 -> #DIV/0! | H37: =G37/$C$5 -> #DIV/0! | J37: =I37/$C$5 -> #DIV/0! | K37: =IF((C37+E37+G37+I37)=C$5, " ","ошибка")
B38: Рынок услуг перевозок пассажиров наземным транспортом | D38: =C38/$C$5 -> #DIV/0! | F38: =E38/$C$5 -> #DIV/0! | H38: =G38/$C$5 -> #DIV/0! | J38: =I38/$C$5 -> #DIV/0! | K38: =IF((C38+E38+G38+I38)=C$5, " ","ошибка")
B39: Рынок сырого молока | D39: =C39/$C$5 -> #DIV/0! | F39: =E39/$C$5 -> #DIV/0! | H39: =G39/$C$5 -> #DIV/0! | J39: =I39/$C$5 -> #DIV/0! | K39: =IF((C39+E39+G39+I39)=C$5, " ","ошибка")
B40: Рынок товарного рыбоводства | D40: =C40/$C$5 -> #DIV/0! | F40: =E40/$C$5 -> #DIV/0! | H40: =G40/$C$5 -> #DIV/0! | J40: =I40/$C$5 -> #DIV/0! | K40: =IF((C40+E40+G40+I40)=C$5, " ","ошибка")

Sheet информация
B2: РЕЗУЛЬТАТЫ ОПРОСА ПОТРЕБИТЕЛЕЙ
B3: =население!B3 -> ____________________ | C3: (район)
B4: Объем выборки | C4: =население!C4 -> 0 | D4: человек
B5: Фактически опрошено | C5: =население!C5 -> 0 | D5: человек
B7: 3. УДОВЛЕТВОРЕННОСТЬ КАЧЕСТВОМ ОФИЦИАЛЬНОЙ ИНФОРМАЦИИ
B9: Качество официальной информации о состоянии конкурентной среды, размещаемой в открытом доступе | C9: Варианты ответов
C10: Удовлетворительно | E10: Скорее удовлетворительно | G10: Скорее неудовлетворительно | I10: Неудовлетворительно | K10: Затрудняюсь ответить
C11: Количество респондентов, чел | D11: Доля от числа опрошенных | E11: Количество респондентов, чел | F11: Доля от числа опрошенных | G11: Количество респондентов, чел | H11: Доля от числа опрошенных | I11: Количество респондентов, чел | J11: Доля от числа опрошенных | K11: Количество респондентов, чел | L11: Доля от числа опрошенных
B12: Уровень доступности | D12: =C12/$C$5 -> #DIV/0! | F12: =E12/$C$5 -> #DIV/0! | H12: =G12/$C$5 -> #DIV/0! | J12: =I12/$C$5 -> #DIV/0! | L12: =K12/$C$5 -> #DIV/0! | M12: =IF((C12+E12+G12+I12+K12)=C$5, " ","ошибка")
B13: Уровень понятности | D13: =C13/$C$5 -> #DIV/0! | F13: =E13/$C$5 -> #DIV/0! | H13: =G13/$C$5 -> #DIV/0! | J13: =I13/$C$5 -> #DIV/0! | L13: =K13/$C$5 -> #DIV/0! | M13: =IF((C13+E13+G13+I13+K13)=C$5, " ","ошибка")
B14: Удобство получения | D14: =C14/$C$5 -> #DIV/0! | F14: =E14/$C$5 -> #DIV/0! | H14: =G14/$C$5 -> #DIV/0! | J14: =I14/$C$5 -> #DIV/0! | L14: =K14/$C$5 -> #DIV/0! | M14: =IF((C14+E14+G14+I14+K14)=C$5, " ","ошибка")

Sheet субъекты естест монополий
B2: РЕЗУЛЬТАТЫ ОПРОСА ПОТРЕБИТЕЛЕЙ
B3: =население!B3 -> ____________________ | C3: (район)
B4: Объем выборки | C4: =население!C4 -> 0 | D4: человек
B5: Фактически опрошено | C5: =население!C5 -> 0 | D5: человек
B7: IV. УДОВЛЕТВОРЕННОСТЬ КАЧЕСТВОМ ТОВАРОВ И УСЛУГ, ПРЕДОСТАВЛЯЕМЫХ СУБЪЕКТАМИ ЕСТЕСТВЕННЫХ МОНОПОЛИЙ
B9: Качество товаров и услуг, предоставляемых субъектами естественных монополий | C9: Варианты ответов
C10: Удовлетворительно | E10: Скорее удовлетворительно | G10: Скорее неудовлетворительно | I10: Неудовлетворительно | K10: Затрудняюсь ответить
C11: Количество респондентов, чел | D11: Доля от числа опрошенных | E11: Количество респондентов, чел | F11: Доля от числа опрошенных | G11: Количество респондентов, чел | H11: Доля от числа опрошенных | I11: Количество респондентов, чел | J11: Доля от числа опрошенных | K11: Количество респондентов, чел | L11: Доля от числа опрошенных
B12: Водоснабжение | D12: =C12/$C$5 -> #DIV/0! | F12: =E12/$C$5 -> #DIV/0! | H12: =G12/$C$5 -> #DIV/0! | J12: =I12/$C$5 -> #DIV/0! | L12: =K12/$C$5 -> #DIV/0! | M12: =IF((C12+E12+G12+I12+K12)=C$5, " ","ошибка")
B13: Водоотведение | D13: =C13/$C$5 -> #DIV/0! | F13: =E13/$C$5 -> #DIV/0! | H13: =G13/$C$5 -> #DIV/0! | J13: =I13/$C$5 -> #DIV/0! | L13: =K13/$C$5 -> #DIV/0! | M13: =IF((C13+E13+G13+I13+K13)=C$5, " ","ошибка")
B14: Газоснабжение (централизованное) | D14: =C14/$C$5 -> #DIV/0! | F14: =E14/$C$5 -> #DIV/0! | H14: =G14/$C$5 -> #DIV/0! | J14: =I14/$C$5 -> #DIV/0! | L14: =K14/$C$5 -> #DIV/0! | M14: =IF((C14+E14+G14+I14+K14)=C$5, " ","ошибка")
B15: Газоснабжение (нецентрализованное) | D15: =C15/$C$5 -> #DIV/0! | F15: =E15/$C$5 -> #DIV/0! | H15: =G15/$C$5 -> #DIV/0! | J15: =I15/$C$5 -> #DIV/0! | L15: =K15/$C$5 -> #DIV/0! | M15: =IF((C15+E15+G15+I15+K15)=C$5, " ","ошибка")
B16: Электроснабжение | D16: =C16/$C$5 -> #DIV/0! | F16: =E16/$C$5 -> #DIV/0! | H16: =G16/$C$5 -> #DIV/0! | J16: =I16/$C$5 -> #DIV/0! | L16: =K16/$C$5 -> #DIV/0! | M16: =IF((C16+E16+G16+I16+K16)=C$5, " ","ошибка")
B17: Теплоснабжение | D17: =C17/$C$5 -> #DIV/0! | F17: =E17/$C$5 -> #DIV/0! | H17: =G17/$C$5 -> #DIV/0! | J17: =I17/$C$5 -> #DIV/0! | L17: =K17/$C$5 -> #DIV/0! | M17: =IF((C17+E17+G17+I17+K17)=C$5, " ","ошибка")
B18: Телефонная связь | D18: =C18/$C$5 -> #DIV/0! | F18: =E18/$C$5 -> #DIV/0! | H18: =G18/$C$5 -> #DIV/0! | J18: =I18/$C$5 -> #DIV/0! | L18: =K18/$C$5 -> #DIV/0! | M18: =IF((C18+E18+G18+I18+K18)=C$5, " ","ошибка")

Sheet предложения
B2: РЕЗУЛЬТАТЫ ОПРОСА ПОТРЕБИТЕЛЕЙ
B3: =население!B3 -> ____________________ | C3: (район)
B4: Объем выборки | C4: =население!C4 -> 0 | D4: человек
B5: Фактически опрошено | C5: =население!C5 -> 0 | D5: человек
B7: ПРЕДЛОЖЕНИЯ ОБ УЛУЧШЕНИИ ЭФФЕКТИВНОСТИ И РЕЗУЛЬТАТИВНОСТИ ИСПОЛНИТЕЛЬНЫХ ОРГАНОВ ГОСУДАРСТВЕННОЙ ВЛАСТИ И ОРГАНОВ МЕСТНОГО САМОУПРАВЛЕНИЯ
C9: Варианты ответов | D9: Количество респондентов, чел | E9: Доля от числа опрошенных, %
B10: Обращались ли Вы за защитой своих прав, как потребитель, в соответствующие органы? | C10: Да | E10: =D10/$C$5 -> #DIV/0!
C11: Нет | E11: =D11/$C$5 -> #DIV/0!
B12: Если да, то в какой (укажите)
E13: =D13/$C$5 -> #DIV/0!
E14: =D14/$C$5 -> #DIV/0!
E15: =D15/$C$5 -> #DIV/0!
E16: =D16/$C$5 -> #DIV/0!
E17: =D17/$C$5 -> #DIV/0!
B19: Варианты ответов | C19: Количество респондентов, чел | D19: Доля от числа опрошенных, %
B20: Создание системы информирования населения о работе различных компаний, защите прав потребителей и состоянии конкуренции | D20: =C20/$C$5 -> #DIV/0!
B21: Обеспечение условий, при которых ни одна компания не может полностью диктовать условия на рынке | D21: =C21/$C$5 -> #DIV/0!
B22: Контроль над ростом цен | D22: =C22/$C$5 -> #DIV/0!
B23: Контроль качества продукции | D23: =C23/$C$5 -> #DIV/0!
B24: Обеспечение условий добросовестной конкуренции | D24: =C24/$C$5 -> #DIV/0!
B25: Помощь начинающим предпринимателям | D25: =C25/$C$5 -> #DIV/0!
B26: Контроль работы естественных монополий, таких как водоснабжение, электро- и теплоснабжение, железнодорожный транспорт | D26: =C26/$C$5 -> #DIV/0!
B27: Сокращение муниципальных предприятий, оказывающих услуги населению, за счет появления новых коммерческих предприятий | D27: =C27/$C$5 -> #DIV/0!
B28: Повышение открытости процедур муниципальных конкурсов и закупок | D28: =C28/$C$5 -> #DIV/0!
B29: Ведение учета обращений граждан, связанных с проблемами развития конкуренции | D29: =C29/$C$5 -> #DIV/0!
B30: Юридическая защита предпринимателей | D30: =C30/$C$5 -> #DIV/0!
B31: Другое | D31: =C31/$C$5 -> #DIV/0!
